BEGIN:VCALENDAR
VERSION:2.0
PRODID:-//BFGS - ECPv6.15.20//NONSGML v1.0//EN
CALSCALE:GREGORIAN
METHOD:PUBLISH
X-WR-CALNAME:BFGS
X-ORIGINAL-URL:https://bfgs.ch
X-WR-CALDESC:Veranstaltungen für BFGS
REFRESH-INTERVAL;VALUE=DURATION:PT1H
X-Robots-Tag:noindex
X-PUBLISHED-TTL:PT1H
BEGIN:VTIMEZONE
TZID:Europe/Paris
BEGIN:DAYLIGHT
TZOFFSETFROM:+0100
TZOFFSETTO:+0200
TZNAME:CEST
DTSTART:20250330T010000
END:DAYLIGHT
BEGIN:STANDARD
TZOFFSETFROM:+0200
TZOFFSETTO:+0100
TZNAME:CET
DTSTART:20251026T010000
END:STANDARD
BEGIN:DAYLIGHT
TZOFFSETFROM:+0100
TZOFFSETTO:+0200
TZNAME:CEST
DTSTART:20260329T010000
END:DAYLIGHT
BEGIN:STANDARD
TZOFFSETFROM:+0200
TZOFFSETTO:+0100
TZNAME:CET
DTSTART:20261025T010000
END:STANDARD
BEGIN:DAYLIGHT
TZOFFSETFROM:+0100
TZOFFSETTO:+0200
TZNAME:CEST
DTSTART:20270328T010000
END:DAYLIGHT
BEGIN:STANDARD
TZOFFSETFROM:+0200
TZOFFSETTO:+0100
TZNAME:CET
DTSTART:20271031T010000
END:STANDARD
END:VTIMEZONE
BEGIN:VEVENT
DTSTART;TZID=Europe/Paris:20260703T080000
DTEND;TZID=Europe/Paris:20260703T170000
DTSTAMP:20260419T171810
CREATED:20251009T111500Z
LAST-MODIFIED:20260417T081540Z
UID:10000335-1783065600-1783098000@bfgs.ch
SUMMARY:Brückentag nach Rutenzug Brugg
DESCRIPTION:
URL:https://bfgs.ch/event/brueckentag-nach-rutenzug-brugg/
LOCATION:BFGS Brugg\, Baslerstrasse 43 - 45\, Brugg\, Aargau\, 5200\, Schweiz
CATEGORIES:Feiertage,Ferien & Feiertage
END:VEVENT
END:VCALENDAR