BEGIN:VCALENDAR
VERSION:2.0
PRODID:-//BFGS - ECPv6.15.20//NONSGML v1.0//EN
CALSCALE:GREGORIAN
METHOD:PUBLISH
X-ORIGINAL-URL:https://bfgs.ch
X-WR-CALDESC:Veranstaltungen für BFGS
REFRESH-INTERVAL;VALUE=DURATION:PT1H
X-Robots-Tag:noindex
X-PUBLISHED-TTL:PT1H
BEGIN:VTIMEZONE
TZID:Europe/Paris
BEGIN:DAYLIGHT
TZOFFSETFROM:+0100
TZOFFSETTO:+0200
TZNAME:CEST
DTSTART:20250330T010000
END:DAYLIGHT
BEGIN:STANDARD
TZOFFSETFROM:+0200
TZOFFSETTO:+0100
TZNAME:CET
DTSTART:20251026T010000
END:STANDARD
BEGIN:DAYLIGHT
TZOFFSETFROM:+0100
TZOFFSETTO:+0200
TZNAME:CEST
DTSTART:20260329T010000
END:DAYLIGHT
BEGIN:STANDARD
TZOFFSETFROM:+0200
TZOFFSETTO:+0100
TZNAME:CET
DTSTART:20261025T010000
END:STANDARD
BEGIN:DAYLIGHT
TZOFFSETFROM:+0100
TZOFFSETTO:+0200
TZNAME:CEST
DTSTART:20270328T010000
END:DAYLIGHT
BEGIN:STANDARD
TZOFFSETFROM:+0200
TZOFFSETTO:+0100
TZNAME:CET
DTSTART:20271031T010000
END:STANDARD
END:VTIMEZONE
BEGIN:VEVENT
DTSTART;TZID=Europe/Paris:20260422T080000
DTEND;TZID=Europe/Paris:20260422T120000
DTSTAMP:20260423T105139
CREATED:20260421T121426Z
LAST-MODIFIED:20260422T081851Z
UID:10000570-1776844800-1776859200@bfgs.ch
SUMMARY:IT
DESCRIPTION:
URL:https://bfgs.ch/event/it/
LOCATION:BFGS Lenzburg\, Hünerwadelplatz\, Lenzburg\, AG\, 5600\, Schweiz
CATEGORIES:Sekretariat Lenzburg
END:VEVENT
BEGIN:VEVENT
DTSTART;TZID=Europe/Paris:20260422T080000
DTEND;TZID=Europe/Paris:20260422T161500
DTSTAMP:20260423T105139
CREATED:20260421T115305Z
LAST-MODIFIED:20260421T115305Z
UID:10000521-1776844800-1776874500@bfgs.ch
SUMMARY:Verwaltung
DESCRIPTION:
URL:https://bfgs.ch/event/verwaltung/
LOCATION:BFGS Steiger\, Badstrasse 48\, Brugg\, AG\, 5200\, Schweiz
CATEGORIES:Sekretariat Steiger
END:VEVENT
BEGIN:VEVENT
DTSTART;TZID=Europe/Paris:20260423T080000
DTEND;TZID=Europe/Paris:20260423T160000
DTSTAMP:20260423T105139
CREATED:20260421T120626Z
LAST-MODIFIED:20260421T120626Z
UID:10000551-1776931200-1776960000@bfgs.ch
SUMMARY:Verwaltung
DESCRIPTION:
URL:https://bfgs.ch/event/verwaltung-31/
LOCATION:BFGS Lenzburg\, Hünerwadelplatz\, Lenzburg\, AG\, 5600\, Schweiz
CATEGORIES:Sekretariat Lenzburg
END:VEVENT
BEGIN:VEVENT
DTSTART;TZID=Europe/Paris:20260424T080000
DTEND;TZID=Europe/Paris:20260424T120000
DTSTAMP:20260423T105139
CREATED:20260421T121447Z
LAST-MODIFIED:20260422T082411Z
UID:10000571-1777017600-1777032000@bfgs.ch
SUMMARY:IT
DESCRIPTION:
URL:https://bfgs.ch/event/it-2/
LOCATION:BFGS Lenzburg\, Hünerwadelplatz\, Lenzburg\, AG\, 5600\, Schweiz
CATEGORIES:Sekretariat Lenzburg
END:VEVENT
BEGIN:VEVENT
DTSTART;TZID=Europe/Paris:20260424T080000
DTEND;TZID=Europe/Paris:20260424T160000
DTSTAMP:20260423T105139
CREATED:20260421T115340Z
LAST-MODIFIED:20260421T115340Z
UID:10000522-1777017600-1777046400@bfgs.ch
SUMMARY:Verwaltung
DESCRIPTION:
URL:https://bfgs.ch/event/verwaltung-2/
LOCATION:BFGS Steiger\, Badstrasse 48\, Brugg\, AG\, 5200\, Schweiz
CATEGORIES:Sekretariat Steiger
END:VEVENT
END:VCALENDAR