BEGIN:VCALENDAR
VERSION:2.0
PRODID:-//BFGS - ECPv6.15.20//NONSGML v1.0//EN
CALSCALE:GREGORIAN
METHOD:PUBLISH
X-ORIGINAL-URL:https://bfgs.ch
X-WR-CALDESC:Veranstaltungen für BFGS
REFRESH-INTERVAL;VALUE=DURATION:PT1H
X-Robots-Tag:noindex
X-PUBLISHED-TTL:PT1H
BEGIN:VTIMEZONE
TZID:Europe/Paris
BEGIN:DAYLIGHT
TZOFFSETFROM:+0100
TZOFFSETTO:+0200
TZNAME:CEST
DTSTART:20250330T010000
END:DAYLIGHT
BEGIN:STANDARD
TZOFFSETFROM:+0200
TZOFFSETTO:+0100
TZNAME:CET
DTSTART:20251026T010000
END:STANDARD
BEGIN:DAYLIGHT
TZOFFSETFROM:+0100
TZOFFSETTO:+0200
TZNAME:CEST
DTSTART:20260329T010000
END:DAYLIGHT
BEGIN:STANDARD
TZOFFSETFROM:+0200
TZOFFSETTO:+0100
TZNAME:CET
DTSTART:20261025T010000
END:STANDARD
BEGIN:DAYLIGHT
TZOFFSETFROM:+0100
TZOFFSETTO:+0200
TZNAME:CEST
DTSTART:20270328T010000
END:DAYLIGHT
BEGIN:STANDARD
TZOFFSETFROM:+0200
TZOFFSETTO:+0100
TZNAME:CET
DTSTART:20271031T010000
END:STANDARD
END:VTIMEZONE
BEGIN:VEVENT
DTSTART;TZID=Europe/Paris:20260427T080000
DTEND;TZID=Europe/Paris:20260427T160000
DTSTAMP:20260423T120847
CREATED:20260421T120639Z
LAST-MODIFIED:20260421T120639Z
UID:10000552-1777276800-1777305600@bfgs.ch
SUMMARY:Verwaltung
DESCRIPTION:
URL:https://bfgs.ch/event/verwaltung-32/
LOCATION:BFGS Lenzburg\, Hünerwadelplatz\, Lenzburg\, AG\, 5600\, Schweiz
CATEGORIES:Sekretariat Lenzburg
END:VEVENT
BEGIN:VEVENT
DTSTART;TZID=Europe/Paris:20260428T080000
DTEND;TZID=Europe/Paris:20260428T120000
DTSTAMP:20260423T120847
CREATED:20260421T121536Z
LAST-MODIFIED:20260422T082755Z
UID:10000572-1777363200-1777377600@bfgs.ch
SUMMARY:IT
DESCRIPTION:
URL:https://bfgs.ch/event/it-3/
LOCATION:BFGS Lenzburg\, Hünerwadelplatz\, Lenzburg\, AG\, 5600\, Schweiz
CATEGORIES:Sekretariat Lenzburg
END:VEVENT
BEGIN:VEVENT
DTSTART;TZID=Europe/Paris:20260428T080000
DTEND;TZID=Europe/Paris:20260428T160000
DTSTAMP:20260423T120847
CREATED:20260421T115351Z
LAST-MODIFIED:20260421T115351Z
UID:10000523-1777363200-1777392000@bfgs.ch
SUMMARY:Verwaltung
DESCRIPTION:
URL:https://bfgs.ch/event/verwaltung-3/
LOCATION:BFGS Steiger\, Badstrasse 48\, Brugg\, AG\, 5200\, Schweiz
CATEGORIES:Sekretariat Steiger
END:VEVENT
BEGIN:VEVENT
DTSTART;TZID=Europe/Paris:20260428T090000
DTEND;TZID=Europe/Paris:20260428T113000
DTSTAMP:20260423T120847
CREATED:20250902T101528Z
LAST-MODIFIED:20260417T081558Z
UID:10000318-1777366800-1777375800@bfgs.ch
SUMMARY:Deutsch schriftlich
DESCRIPTION:
URL:https://bfgs.ch/event/deutsch-schriftlich/
LOCATION:BFGS Brugg\, Baslerstrasse 43 - 45\, Brugg\, Aargau\, 5200\, Schweiz
CATEGORIES:Qualifikationsverfahren BM,QV
END:VEVENT
BEGIN:VEVENT
DTSTART;TZID=Europe/Paris:20260429T080000
DTEND;TZID=Europe/Paris:20260429T160000
DTSTAMP:20260423T120847
CREATED:20260421T120650Z
LAST-MODIFIED:20260421T120650Z
UID:10000553-1777449600-1777478400@bfgs.ch
SUMMARY:Verwaltung
DESCRIPTION:
URL:https://bfgs.ch/event/verwaltung-33/
LOCATION:BFGS Lenzburg\, Hünerwadelplatz\, Lenzburg\, AG\, 5600\, Schweiz
CATEGORIES:Sekretariat Lenzburg
END:VEVENT
BEGIN:VEVENT
DTSTART;TZID=Europe/Paris:20260430T080000
DTEND;TZID=Europe/Paris:20260430T120000
DTSTAMP:20260423T120847
CREATED:20260421T121546Z
LAST-MODIFIED:20260422T082856Z
UID:10000573-1777536000-1777550400@bfgs.ch
SUMMARY:IT
DESCRIPTION:
URL:https://bfgs.ch/event/it-4/
LOCATION:BFGS Lenzburg\, Hünerwadelplatz\, Lenzburg\, AG\, 5600\, Schweiz
CATEGORIES:Sekretariat Lenzburg
END:VEVENT
BEGIN:VEVENT
DTSTART;TZID=Europe/Paris:20260430T080000
DTEND;TZID=Europe/Paris:20260430T160000
DTSTAMP:20260423T120847
CREATED:20260421T115406Z
LAST-MODIFIED:20260421T115406Z
UID:10000524-1777536000-1777564800@bfgs.ch
SUMMARY:Verwaltung
DESCRIPTION:
URL:https://bfgs.ch/event/verwaltung-4/
LOCATION:BFGS Steiger\, Badstrasse 48\, Brugg\, AG\, 5200\, Schweiz
CATEGORIES:Sekretariat Steiger
END:VEVENT
BEGIN:VEVENT
DTSTART;TZID=Europe/Paris:20260430T080000
DTEND;TZID=Europe/Paris:20260430T160000
DTSTAMP:20260423T120847
CREATED:20260421T120240Z
LAST-MODIFIED:20260421T120240Z
UID:10000543-1777536000-1777564800@bfgs.ch
SUMMARY:Verwaltung
DESCRIPTION:
URL:https://bfgs.ch/event/verwaltung-23/
LOCATION:BFGS Rheinfelden\, Engerfeldstrasse 20\, Rheinfelden\, AG\, 4310\, Schweiz
CATEGORIES:Sekretariat Rheinfelden
END:VEVENT
BEGIN:VEVENT
DTSTART;VALUE=DATE:20260501
DTEND;VALUE=DATE:20260502
DTSTAMP:20260423T120847
CREATED:20250917T075347Z
LAST-MODIFIED:20260417T081558Z
UID:10000333-1777593600-1777679999@bfgs.ch
SUMMARY:Maifeier
DESCRIPTION:
URL:https://bfgs.ch/event/maifeier-4/
LOCATION:BFGS Brugg\, Baslerstrasse 43 - 45\, Brugg\, Aargau\, 5200\, Schweiz
CATEGORIES:Feiertage
END:VEVENT
END:VCALENDAR