BEGIN:VCALENDAR
VERSION:2.0
PRODID:-//BFGS - ECPv6.15.20//NONSGML v1.0//EN
CALSCALE:GREGORIAN
METHOD:PUBLISH
X-WR-CALNAME:BFGS
X-ORIGINAL-URL:https://bfgs.ch
X-WR-CALDESC:Veranstaltungen für BFGS
REFRESH-INTERVAL;VALUE=DURATION:PT1H
X-Robots-Tag:noindex
X-PUBLISHED-TTL:PT1H
BEGIN:VTIMEZONE
TZID:Europe/Paris
BEGIN:DAYLIGHT
TZOFFSETFROM:+0100
TZOFFSETTO:+0200
TZNAME:CEST
DTSTART:20250330T010000
END:DAYLIGHT
BEGIN:STANDARD
TZOFFSETFROM:+0200
TZOFFSETTO:+0100
TZNAME:CET
DTSTART:20251026T010000
END:STANDARD
BEGIN:DAYLIGHT
TZOFFSETFROM:+0100
TZOFFSETTO:+0200
TZNAME:CEST
DTSTART:20260329T010000
END:DAYLIGHT
BEGIN:STANDARD
TZOFFSETFROM:+0200
TZOFFSETTO:+0100
TZNAME:CET
DTSTART:20261025T010000
END:STANDARD
BEGIN:DAYLIGHT
TZOFFSETFROM:+0100
TZOFFSETTO:+0200
TZNAME:CEST
DTSTART:20270328T010000
END:DAYLIGHT
BEGIN:STANDARD
TZOFFSETFROM:+0200
TZOFFSETTO:+0100
TZNAME:CET
DTSTART:20271031T010000
END:STANDARD
END:VTIMEZONE
BEGIN:VEVENT
DTSTART;TZID=Europe/Paris:20260518T080000
DTEND;TZID=Europe/Paris:20260518T120000
DTSTAMP:20260423T104833
CREATED:20260421T121708Z
LAST-MODIFIED:20260422T083626Z
UID:10000577-1779091200-1779105600@bfgs.ch
SUMMARY:IT
DESCRIPTION:
URL:https://bfgs.ch/event/it-8/
LOCATION:BFGS Lenzburg\, Hünerwadelplatz\, Lenzburg\, AG\, 5600\, Schweiz
CATEGORIES:Sekretariat Lenzburg
END:VEVENT
BEGIN:VEVENT
DTSTART;TZID=Europe/Paris:20260518T080000
DTEND;TZID=Europe/Paris:20260519T160000
DTSTAMP:20260423T104833
CREATED:20260421T115512Z
LAST-MODIFIED:20260421T115527Z
UID:10000528-1779091200-1779206400@bfgs.ch
SUMMARY:Verwaltung
DESCRIPTION:
URL:https://bfgs.ch/event/verwaltung-8/
LOCATION:BFGS Steiger\, Badstrasse 48\, Brugg\, AG\, 5200\, Schweiz
CATEGORIES:Sekretariat Steiger
END:VEVENT
BEGIN:VEVENT
DTSTART;TZID=Europe/Paris:20260519T080000
DTEND;TZID=Europe/Paris:20260519T160000
DTSTAMP:20260423T104833
CREATED:20260421T120311Z
LAST-MODIFIED:20260421T120311Z
UID:10000545-1779177600-1779206400@bfgs.ch
SUMMARY:Verwaltung
DESCRIPTION:
URL:https://bfgs.ch/event/verwaltung-25/
LOCATION:BFGS Rheinfelden\, Engerfeldstrasse 20\, Rheinfelden\, AG\, 4310\, Schweiz
CATEGORIES:Sekretariat Rheinfelden
END:VEVENT
BEGIN:VEVENT
DTSTART;TZID=Europe/Paris:20260519T080000
DTEND;TZID=Europe/Paris:20260519T160000
DTSTAMP:20260423T104833
CREATED:20260421T120749Z
LAST-MODIFIED:20260421T120749Z
UID:10000558-1779177600-1779206400@bfgs.ch
SUMMARY:Verwaltung
DESCRIPTION:
URL:https://bfgs.ch/event/verwaltung-38/
LOCATION:BFGS Lenzburg\, Hünerwadelplatz\, Lenzburg\, AG\, 5600\, Schweiz
CATEGORIES:Sekretariat Lenzburg
END:VEVENT
BEGIN:VEVENT
DTSTART;TZID=Europe/Paris:20260520T080000
DTEND;TZID=Europe/Paris:20260520T120000
DTSTAMP:20260423T104833
CREATED:20260421T121716Z
LAST-MODIFIED:20260422T083703Z
UID:10000578-1779264000-1779278400@bfgs.ch
SUMMARY:IT
DESCRIPTION:
URL:https://bfgs.ch/event/it-9/
LOCATION:BFGS Lenzburg\, Hünerwadelplatz\, Lenzburg\, AG\, 5600\, Schweiz
CATEGORIES:Sekretariat Lenzburg
END:VEVENT
BEGIN:VEVENT
DTSTART;TZID=Europe/Paris:20260520T080000
DTEND;TZID=Europe/Paris:20260521T160000
DTSTAMP:20260423T104833
CREATED:20260421T115538Z
LAST-MODIFIED:20260421T115538Z
UID:10000529-1779264000-1779379200@bfgs.ch
SUMMARY:Verwaltung
DESCRIPTION:
URL:https://bfgs.ch/event/verwaltung-9/
LOCATION:BFGS Steiger\, Badstrasse 48\, Brugg\, AG\, 5200\, Schweiz
CATEGORIES:Sekretariat Steiger
END:VEVENT
BEGIN:VEVENT
DTSTART;TZID=Europe/Paris:20260521T080000
DTEND;TZID=Europe/Paris:20260521T160000
DTSTAMP:20260423T104833
CREATED:20260421T120759Z
LAST-MODIFIED:20260421T120759Z
UID:10000559-1779350400-1779379200@bfgs.ch
SUMMARY:Verwaltung
DESCRIPTION:
URL:https://bfgs.ch/event/verwaltung-39/
LOCATION:BFGS Lenzburg\, Hünerwadelplatz\, Lenzburg\, AG\, 5600\, Schweiz
CATEGORIES:Sekretariat Lenzburg
END:VEVENT
BEGIN:VEVENT
DTSTART;VALUE=DATE:20260522
DTEND;VALUE=DATE:20260523
DTSTAMP:20260423T104833
CREATED:20260126T093438Z
LAST-MODIFIED:20260417T081557Z
UID:10000466-1779408000-1779494399@bfgs.ch
SUMMARY:Letzter Schultag BM2 Abschlussklassen
DESCRIPTION:
URL:https://bfgs.ch/event/letzter-schultag-bm2-abschlussklassen/
LOCATION:BFGS Brugg\, Baslerstrasse 43 - 45\, Brugg\, Aargau\, 5200\, Schweiz
CATEGORIES:Termine BFGS
END:VEVENT
BEGIN:VEVENT
DTSTART;TZID=Europe/Paris:20260522T080000
DTEND;TZID=Europe/Paris:20260522T120000
DTSTAMP:20260423T104833
CREATED:20260421T121728Z
LAST-MODIFIED:20260422T083756Z
UID:10000579-1779436800-1779451200@bfgs.ch
SUMMARY:IT
DESCRIPTION:
URL:https://bfgs.ch/event/it-10/
LOCATION:BFGS Lenzburg\, Hünerwadelplatz\, Lenzburg\, AG\, 5600\, Schweiz
CATEGORIES:Sekretariat Lenzburg
END:VEVENT
BEGIN:VEVENT
DTSTART;TZID=Europe/Paris:20260522T080000
DTEND;TZID=Europe/Paris:20260523T160000
DTSTAMP:20260423T104833
CREATED:20260421T115555Z
LAST-MODIFIED:20260421T115555Z
UID:10000530-1779436800-1779552000@bfgs.ch
SUMMARY:Verwaltung
DESCRIPTION:
URL:https://bfgs.ch/event/verwaltung-10/
LOCATION:BFGS Steiger\, Badstrasse 48\, Brugg\, AG\, 5200\, Schweiz
CATEGORIES:Sekretariat Steiger
END:VEVENT
BEGIN:VEVENT
DTSTART;TZID=Europe/Paris:20260522T090000
DTEND;TZID=Europe/Paris:20260522T110000
DTSTAMP:20260423T104834
CREATED:20250902T101639Z
LAST-MODIFIED:20260417T081557Z
UID:10000319-1779440400-1779447600@bfgs.ch
SUMMARY:Mathematik schriftlich
DESCRIPTION:
URL:https://bfgs.ch/event/mathematik-schriftlich/
LOCATION:BFGS Brugg\, Baslerstrasse 43 - 45\, Brugg\, Aargau\, 5200\, Schweiz
CATEGORIES:Qualifikationsverfahren BM,QV
END:VEVENT
END:VCALENDAR