BEGIN:VCALENDAR
VERSION:2.0
PRODID:-//BFGS - ECPv6.15.20//NONSGML v1.0//EN
CALSCALE:GREGORIAN
METHOD:PUBLISH
X-ORIGINAL-URL:https://bfgs.ch
X-WR-CALDESC:Veranstaltungen für BFGS
REFRESH-INTERVAL;VALUE=DURATION:PT1H
X-Robots-Tag:noindex
X-PUBLISHED-TTL:PT1H
BEGIN:VTIMEZONE
TZID:Europe/Paris
BEGIN:DAYLIGHT
TZOFFSETFROM:+0100
TZOFFSETTO:+0200
TZNAME:CEST
DTSTART:20250330T010000
END:DAYLIGHT
BEGIN:STANDARD
TZOFFSETFROM:+0200
TZOFFSETTO:+0100
TZNAME:CET
DTSTART:20251026T010000
END:STANDARD
BEGIN:DAYLIGHT
TZOFFSETFROM:+0100
TZOFFSETTO:+0200
TZNAME:CEST
DTSTART:20260329T010000
END:DAYLIGHT
BEGIN:STANDARD
TZOFFSETFROM:+0200
TZOFFSETTO:+0100
TZNAME:CET
DTSTART:20261025T010000
END:STANDARD
BEGIN:DAYLIGHT
TZOFFSETFROM:+0100
TZOFFSETTO:+0200
TZNAME:CEST
DTSTART:20270328T010000
END:DAYLIGHT
BEGIN:STANDARD
TZOFFSETFROM:+0200
TZOFFSETTO:+0100
TZNAME:CET
DTSTART:20271031T010000
END:STANDARD
END:VTIMEZONE
BEGIN:VEVENT
DTSTART;TZID=Europe/Paris:20260525T080000
DTEND;TZID=Europe/Paris:20260525T170000
DTSTAMP:20260423T120800
CREATED:20250605T092636Z
LAST-MODIFIED:20260417T081557Z
UID:10000207-1779696000-1779728400@bfgs.ch
SUMMARY:Pfingstmontag
DESCRIPTION:
URL:https://bfgs.ch/event/pfingstmontag-2/
LOCATION:BFGS Brugg\, Baslerstrasse 43 - 45\, Brugg\, Aargau\, 5200\, Schweiz
CATEGORIES:Feiertage
END:VEVENT
BEGIN:VEVENT
DTSTART;TZID=Europe/Paris:20260526T080000
DTEND;TZID=Europe/Paris:20260526T120000
DTSTAMP:20260423T120800
CREATED:20260421T121747Z
LAST-MODIFIED:20260422T083836Z
UID:10000580-1779782400-1779796800@bfgs.ch
SUMMARY:IT
DESCRIPTION:
URL:https://bfgs.ch/event/it-11/
LOCATION:BFGS Lenzburg\, Hünerwadelplatz\, Lenzburg\, AG\, 5600\, Schweiz
CATEGORIES:Sekretariat Lenzburg
END:VEVENT
BEGIN:VEVENT
DTSTART;TZID=Europe/Paris:20260526T080000
DTEND;TZID=Europe/Paris:20260527T160000
DTSTAMP:20260423T120800
CREATED:20260421T115615Z
LAST-MODIFIED:20260421T115615Z
UID:10000531-1779782400-1779897600@bfgs.ch
SUMMARY:Verwaltung
DESCRIPTION:
URL:https://bfgs.ch/event/verwaltung-11/
LOCATION:BFGS Steiger\, Badstrasse 48\, Brugg\, AG\, 5200\, Schweiz
CATEGORIES:Sekretariat Steiger
END:VEVENT
BEGIN:VEVENT
DTSTART;TZID=Europe/Paris:20260526T090000
DTEND;TZID=Europe/Paris:20260526T120000
DTSTAMP:20260423T120800
CREATED:20250902T101713Z
LAST-MODIFIED:20260417T081557Z
UID:10000320-1779786000-1779796800@bfgs.ch
SUMMARY:Sozialwissenschaften
DESCRIPTION:
URL:https://bfgs.ch/event/sozialwissenschaften/
LOCATION:BFGS Brugg\, Baslerstrasse 43 - 45\, Brugg\, Aargau\, 5200\, Schweiz
CATEGORIES:Qualifikationsverfahren BM,QV
END:VEVENT
BEGIN:VEVENT
DTSTART;TZID=Europe/Paris:20260527T080000
DTEND;TZID=Europe/Paris:20260527T160000
DTSTAMP:20260423T120800
CREATED:20260421T120817Z
LAST-MODIFIED:20260421T120817Z
UID:10000560-1779868800-1779897600@bfgs.ch
SUMMARY:Verwaltung
DESCRIPTION:
URL:https://bfgs.ch/event/verwaltung-40/
LOCATION:BFGS Lenzburg\, Hünerwadelplatz\, Lenzburg\, AG\, 5600\, Schweiz
CATEGORIES:Sekretariat Lenzburg
END:VEVENT
BEGIN:VEVENT
DTSTART;VALUE=DATE:20260528
DTEND;VALUE=DATE:20260529
DTSTAMP:20260423T120800
CREATED:20260126T093519Z
LAST-MODIFIED:20260417T081557Z
UID:10000467-1779926400-1780012799@bfgs.ch
SUMMARY:Letzter Schultag EFZ / EBA Abschlussklassen
DESCRIPTION:
URL:https://bfgs.ch/event/letzter-schultag-efz-eba-abschlussklassen/
LOCATION:BFGS Brugg\, Baslerstrasse 43 - 45\, Brugg\, Aargau\, 5200\, Schweiz
CATEGORIES:Termine BFGS
END:VEVENT
BEGIN:VEVENT
DTSTART;TZID=Europe/Paris:20260528T080000
DTEND;TZID=Europe/Paris:20260528T160000
DTSTAMP:20260423T120800
CREATED:20260421T120323Z
LAST-MODIFIED:20260421T120323Z
UID:10000546-1779955200-1779984000@bfgs.ch
SUMMARY:Verwaltung
DESCRIPTION:
URL:https://bfgs.ch/event/verwaltung-26/
LOCATION:BFGS Rheinfelden\, Engerfeldstrasse 20\, Rheinfelden\, AG\, 4310\, Schweiz
CATEGORIES:Sekretariat Rheinfelden
END:VEVENT
BEGIN:VEVENT
DTSTART;TZID=Europe/Paris:20260528T080000
DTEND;TZID=Europe/Paris:20260528T170000
DTSTAMP:20260423T120800
CREATED:20260421T121755Z
LAST-MODIFIED:20260422T082315Z
UID:10000581-1779955200-1779987600@bfgs.ch
SUMMARY:IT
DESCRIPTION:
URL:https://bfgs.ch/event/it-12/2026-05-28/
LOCATION:BFGS Lenzburg\, Hünerwadelplatz\, Lenzburg\, AG\, 5600\, Schweiz
CATEGORIES:Sekretariat Lenzburg
END:VEVENT
BEGIN:VEVENT
DTSTART;TZID=Europe/Paris:20260528T080000
DTEND;TZID=Europe/Paris:20260529T160000
DTSTAMP:20260423T120800
CREATED:20260421T115638Z
LAST-MODIFIED:20260421T115638Z
UID:10000532-1779955200-1780070400@bfgs.ch
SUMMARY:Verwaltung
DESCRIPTION:
URL:https://bfgs.ch/event/verwaltung-12/
LOCATION:BFGS Steiger\, Badstrasse 48\, Brugg\, AG\, 5200\, Schweiz
CATEGORIES:Sekretariat Steiger
END:VEVENT
BEGIN:VEVENT
DTSTART;TZID=Europe/Paris:20260529T090000
DTEND;TZID=Europe/Paris:20260529T111500
DTSTAMP:20260423T120800
CREATED:20250902T101752Z
LAST-MODIFIED:20260417T081557Z
UID:10000321-1780045200-1780053300@bfgs.ch
SUMMARY:Allgemeinbildung (ABU)
DESCRIPTION:Kein Unterricht an diesem Tag
URL:https://bfgs.ch/event/allgemeinbildung-abu/
LOCATION:BFGS Brugg\, Baslerstrasse 43 - 45\, Brugg\, Aargau\, 5200\, Schweiz
CATEGORIES:Qualifikationsverfahren ABU,QV
END:VEVENT
END:VCALENDAR