BEGIN:VCALENDAR
VERSION:2.0
PRODID:-//BFGS - ECPv6.15.20//NONSGML v1.0//EN
CALSCALE:GREGORIAN
METHOD:PUBLISH
X-ORIGINAL-URL:https://bfgs.ch
X-WR-CALDESC:Veranstaltungen für BFGS
REFRESH-INTERVAL;VALUE=DURATION:PT1H
X-Robots-Tag:noindex
X-PUBLISHED-TTL:PT1H
BEGIN:VTIMEZONE
TZID:Europe/Paris
BEGIN:DAYLIGHT
TZOFFSETFROM:+0100
TZOFFSETTO:+0200
TZNAME:CEST
DTSTART:20250330T010000
END:DAYLIGHT
BEGIN:STANDARD
TZOFFSETFROM:+0200
TZOFFSETTO:+0100
TZNAME:CET
DTSTART:20251026T010000
END:STANDARD
BEGIN:DAYLIGHT
TZOFFSETFROM:+0100
TZOFFSETTO:+0200
TZNAME:CEST
DTSTART:20260329T010000
END:DAYLIGHT
BEGIN:STANDARD
TZOFFSETFROM:+0200
TZOFFSETTO:+0100
TZNAME:CET
DTSTART:20261025T010000
END:STANDARD
BEGIN:DAYLIGHT
TZOFFSETFROM:+0100
TZOFFSETTO:+0200
TZNAME:CEST
DTSTART:20270328T010000
END:DAYLIGHT
BEGIN:STANDARD
TZOFFSETFROM:+0200
TZOFFSETTO:+0100
TZNAME:CET
DTSTART:20271031T010000
END:STANDARD
END:VTIMEZONE
BEGIN:VEVENT
DTSTART;TZID=Europe/Paris:20260430T080000
DTEND;TZID=Europe/Paris:20260602T120000
DTSTAMP:20260421T155524
CREATED:20260421T121546Z
LAST-MODIFIED:20260421T121546Z
UID:10000573-1777536000-1780401600@bfgs.ch
SUMMARY:IT
DESCRIPTION:
URL:https://bfgs.ch/event/it-4/
LOCATION:BFGS Lenzburg\, Hünerwadelplatz\, Lenzburg\, AG\, 5600\, Schweiz
CATEGORIES:Sekretariat Lenzburg
END:VEVENT
BEGIN:VEVENT
DTSTART;TZID=Europe/Paris:20260504T080000
DTEND;TZID=Europe/Paris:20260606T120000
DTSTAMP:20260421T155524
CREATED:20260421T121608Z
LAST-MODIFIED:20260421T121608Z
UID:10000574-1777881600-1780747200@bfgs.ch
SUMMARY:IT
DESCRIPTION:
URL:https://bfgs.ch/event/it-5/
LOCATION:BFGS Lenzburg\, Hünerwadelplatz\, Lenzburg\, AG\, 5600\, Schweiz
CATEGORIES:Sekretariat Lenzburg
END:VEVENT
BEGIN:VEVENT
DTSTART;TZID=Europe/Paris:20260506T080000
DTEND;TZID=Europe/Paris:20260608T120000
DTSTAMP:20260421T155524
CREATED:20260421T121619Z
LAST-MODIFIED:20260421T121619Z
UID:10000575-1778054400-1780920000@bfgs.ch
SUMMARY:IT
DESCRIPTION:
URL:https://bfgs.ch/event/it-6/
LOCATION:BFGS Lenzburg\, Hünerwadelplatz\, Lenzburg\, AG\, 5600\, Schweiz
CATEGORIES:Sekretariat Lenzburg
END:VEVENT
BEGIN:VEVENT
DTSTART;TZID=Europe/Paris:20260508T080000
DTEND;TZID=Europe/Paris:20260610T120000
DTSTAMP:20260421T155524
CREATED:20260421T122142Z
LAST-MODIFIED:20260421T122142Z
UID:10000591-1778227200-1781092800@bfgs.ch
SUMMARY:IT
DESCRIPTION:
URL:https://bfgs.ch/event/it-22/
LOCATION:BFGS Lenzburg\, Hünerwadelplatz\, Lenzburg\, AG\, 5600\, Schweiz
CATEGORIES:Sekretariat Lenzburg
END:VEVENT
BEGIN:VEVENT
DTSTART;TZID=Europe/Paris:20260512T080000
DTEND;TZID=Europe/Paris:20260614T120000
DTSTAMP:20260421T155524
CREATED:20260421T121632Z
LAST-MODIFIED:20260421T121653Z
UID:10000576-1778572800-1781438400@bfgs.ch
SUMMARY:IT
DESCRIPTION:
URL:https://bfgs.ch/event/it-7/
LOCATION:BFGS Lenzburg\, Hünerwadelplatz\, Lenzburg\, AG\, 5600\, Schweiz
CATEGORIES:Sekretariat Lenzburg
END:VEVENT
BEGIN:VEVENT
DTSTART;TZID=Europe/Paris:20260518T080000
DTEND;TZID=Europe/Paris:20260620T120000
DTSTAMP:20260421T155524
CREATED:20260421T121708Z
LAST-MODIFIED:20260421T121708Z
UID:10000577-1779091200-1781956800@bfgs.ch
SUMMARY:IT
DESCRIPTION:
URL:https://bfgs.ch/event/it-8/
LOCATION:BFGS Lenzburg\, Hünerwadelplatz\, Lenzburg\, AG\, 5600\, Schweiz
CATEGORIES:Sekretariat Lenzburg
END:VEVENT
BEGIN:VEVENT
DTSTART;TZID=Europe/Paris:20260520T080000
DTEND;TZID=Europe/Paris:20260622T120000
DTSTAMP:20260421T155524
CREATED:20260421T121716Z
LAST-MODIFIED:20260421T121716Z
UID:10000578-1779264000-1782129600@bfgs.ch
SUMMARY:IT
DESCRIPTION:
URL:https://bfgs.ch/event/it-9/
LOCATION:BFGS Lenzburg\, Hünerwadelplatz\, Lenzburg\, AG\, 5600\, Schweiz
CATEGORIES:Sekretariat Lenzburg
END:VEVENT
BEGIN:VEVENT
DTSTART;TZID=Europe/Paris:20260522T080000
DTEND;TZID=Europe/Paris:20260624T120000
DTSTAMP:20260421T155524
CREATED:20260421T121728Z
LAST-MODIFIED:20260421T121728Z
UID:10000579-1779436800-1782302400@bfgs.ch
SUMMARY:IT
DESCRIPTION:
URL:https://bfgs.ch/event/it-10/
LOCATION:BFGS Lenzburg\, Hünerwadelplatz\, Lenzburg\, AG\, 5600\, Schweiz
CATEGORIES:Sekretariat Lenzburg
END:VEVENT
BEGIN:VEVENT
DTSTART;TZID=Europe/Paris:20260526T080000
DTEND;TZID=Europe/Paris:20260628T120000
DTSTAMP:20260421T155524
CREATED:20260421T121747Z
LAST-MODIFIED:20260421T121747Z
UID:10000580-1779782400-1782648000@bfgs.ch
SUMMARY:IT
DESCRIPTION:
URL:https://bfgs.ch/event/it-11/
LOCATION:BFGS Lenzburg\, Hünerwadelplatz\, Lenzburg\, AG\, 5600\, Schweiz
CATEGORIES:Sekretariat Lenzburg
END:VEVENT
BEGIN:VEVENT
DTSTART;TZID=Europe/Paris:20260528T080000
DTEND;TZID=Europe/Paris:20260630T120000
DTSTAMP:20260421T155524
CREATED:20260421T121755Z
LAST-MODIFIED:20260421T121755Z
UID:10000581-1779955200-1782820800@bfgs.ch
SUMMARY:IT
DESCRIPTION:
URL:https://bfgs.ch/event/it-12/
LOCATION:BFGS Lenzburg\, Hünerwadelplatz\, Lenzburg\, AG\, 5600\, Schweiz
CATEGORIES:Sekretariat Lenzburg
END:VEVENT
BEGIN:VEVENT
DTSTART;VALUE=DATE:20260601
DTEND;VALUE=DATE:20260606
DTSTAMP:20260421T155524
CREATED:20260128T101840Z
LAST-MODIFIED:20260417T081557Z
UID:10000470-1780272000-1780703999@bfgs.ch
SUMMARY:Unterrichtsfrei für alle Klassen von 1. Juni bis 5. Juni 2026
DESCRIPTION:
URL:https://bfgs.ch/event/unterrichtsfrei-von-1-juni-bis-5-juni-2026/
LOCATION:BFGS Brugg\, Baslerstrasse 43 - 45\, Brugg\, Aargau\, 5200\, Schweiz
CATEGORIES:QV,Termine BFGS
END:VEVENT
BEGIN:VEVENT
DTSTART;TZID=Europe/Paris:20260601T090000
DTEND;TZID=Europe/Paris:20260601T124000
DTSTAMP:20260421T155524
CREATED:20250902T102050Z
LAST-MODIFIED:20260417T081557Z
UID:10000324-1780304400-1780317600@bfgs.ch
SUMMARY:Berufskunde (BK) FAGE
DESCRIPTION:
URL:https://bfgs.ch/event/berufskunde-bk-fage/
LOCATION:BFGS Brugg\, Baslerstrasse 43 - 45\, Brugg\, Aargau\, 5200\, Schweiz
CATEGORIES:Qualifikationsverfahren FaGe,QV
END:VEVENT
BEGIN:VEVENT
DTSTART;TZID=Europe/Paris:20260602T090000
DTEND;TZID=Europe/Paris:20260602T123000
DTSTAMP:20260421T155524
CREATED:20250902T102122Z
LAST-MODIFIED:20260417T081557Z
UID:10000325-1780390800-1780403400@bfgs.ch
SUMMARY:Berufskunde (BK) FABE
DESCRIPTION:
URL:https://bfgs.ch/event/berufskunde-bk-fabe/
LOCATION:BFGS Brugg\, Baslerstrasse 43 - 45\, Brugg\, Aargau\, 5200\, Schweiz
CATEGORIES:Qualifikationsverfahren FaBe,QV
END:VEVENT
BEGIN:VEVENT
DTSTART;TZID=Europe/Paris:20260603T090000
DTEND;TZID=Europe/Paris:20260603T114000
DTSTAMP:20260421T155524
CREATED:20250902T102207Z
LAST-MODIFIED:20260417T081557Z
UID:10000326-1780477200-1780486800@bfgs.ch
SUMMARY:Berufskunde (BK) AGS
DESCRIPTION:
URL:https://bfgs.ch/event/berufskunde-bk-ags/
LOCATION:BFGS Brugg\, Baslerstrasse 43 - 45\, Brugg\, Aargau\, 5200\, Schweiz
CATEGORIES:Qualifikationsverfahren AGS,QV
END:VEVENT
BEGIN:VEVENT
DTSTART;TZID=Europe/Paris:20260603T130000
DTEND;TZID=Europe/Paris:20260603T155000
DTSTAMP:20260421T155524
CREATED:20250902T101906Z
LAST-MODIFIED:20260417T081557Z
UID:10000322-1780491600-1780501800@bfgs.ch
SUMMARY:Naturwissenschaften
DESCRIPTION:
URL:https://bfgs.ch/event/naturwissenschaften/
LOCATION:BFGS Brugg\, Baslerstrasse 43 - 45\, Brugg\, Aargau\, 5200\, Schweiz
CATEGORIES:Qualifikationsverfahren BM,QV
END:VEVENT
BEGIN:VEVENT
DTSTART;TZID=Europe/Paris:20260604T090000
DTEND;TZID=Europe/Paris:20260604T110000
DTSTAMP:20260421T155524
CREATED:20250902T101952Z
LAST-MODIFIED:20260417T081540Z
UID:10000323-1780563600-1780570800@bfgs.ch
SUMMARY:Englisch
DESCRIPTION:
URL:https://bfgs.ch/event/englisch/
LOCATION:BFGS Brugg\, Baslerstrasse 43 - 45\, Brugg\, Aargau\, 5200\, Schweiz
CATEGORIES:Qualifikationsverfahren BM,QV
END:VEVENT
END:VCALENDAR