BEGIN:VCALENDAR
VERSION:2.0
PRODID:-//BFGS - ECPv6.15.20//NONSGML v1.0//EN
CALSCALE:GREGORIAN
METHOD:PUBLISH
X-WR-CALNAME:BFGS
X-ORIGINAL-URL:https://bfgs.ch
X-WR-CALDESC:Veranstaltungen für BFGS
REFRESH-INTERVAL;VALUE=DURATION:PT1H
X-Robots-Tag:noindex
X-PUBLISHED-TTL:PT1H
BEGIN:VTIMEZONE
TZID:Europe/Paris
BEGIN:DAYLIGHT
TZOFFSETFROM:+0100
TZOFFSETTO:+0200
TZNAME:CEST
DTSTART:20250330T010000
END:DAYLIGHT
BEGIN:STANDARD
TZOFFSETFROM:+0200
TZOFFSETTO:+0100
TZNAME:CET
DTSTART:20251026T010000
END:STANDARD
BEGIN:DAYLIGHT
TZOFFSETFROM:+0100
TZOFFSETTO:+0200
TZNAME:CEST
DTSTART:20260329T010000
END:DAYLIGHT
BEGIN:STANDARD
TZOFFSETFROM:+0200
TZOFFSETTO:+0100
TZNAME:CET
DTSTART:20261025T010000
END:STANDARD
BEGIN:DAYLIGHT
TZOFFSETFROM:+0100
TZOFFSETTO:+0200
TZNAME:CEST
DTSTART:20270328T010000
END:DAYLIGHT
BEGIN:STANDARD
TZOFFSETFROM:+0200
TZOFFSETTO:+0100
TZNAME:CET
DTSTART:20271031T010000
END:STANDARD
END:VTIMEZONE
BEGIN:VEVENT
DTSTART;TZID=Europe/Paris:20260609T080000
DTEND;TZID=Europe/Paris:20260712T120000
DTSTAMP:20260421T153808
CREATED:20260421T121815Z
LAST-MODIFIED:20260421T121815Z
UID:10000582-1780992000-1783857600@bfgs.ch
SUMMARY:IT
DESCRIPTION:
URL:https://bfgs.ch/event/it-13/
LOCATION:BFGS Lenzburg\, Hünerwadelplatz\, Lenzburg\, AG\, 5600\, Schweiz
CATEGORIES:Sekretariat Lenzburg
END:VEVENT
BEGIN:VEVENT
DTSTART;TZID=Europe/Paris:20260611T080000
DTEND;TZID=Europe/Paris:20260714T120000
DTSTAMP:20260421T153808
CREATED:20260421T121825Z
LAST-MODIFIED:20260421T121825Z
UID:10000583-1781164800-1784030400@bfgs.ch
SUMMARY:IT
DESCRIPTION:
URL:https://bfgs.ch/event/it-14/
LOCATION:BFGS Lenzburg\, Hünerwadelplatz\, Lenzburg\, AG\, 5600\, Schweiz
CATEGORIES:Sekretariat Lenzburg
END:VEVENT
BEGIN:VEVENT
DTSTART;TZID=Europe/Paris:20260615T080000
DTEND;TZID=Europe/Paris:20260718T120000
DTSTAMP:20260421T153808
CREATED:20260421T121850Z
LAST-MODIFIED:20260421T121850Z
UID:10000584-1781510400-1784376000@bfgs.ch
SUMMARY:IT
DESCRIPTION:
URL:https://bfgs.ch/event/it-15/
LOCATION:BFGS Lenzburg\, Hünerwadelplatz\, Lenzburg\, AG\, 5600\, Schweiz
CATEGORIES:Sekretariat Lenzburg
END:VEVENT
BEGIN:VEVENT
DTSTART;TZID=Europe/Paris:20260617T080000
DTEND;TZID=Europe/Paris:20260720T120000
DTSTAMP:20260421T153808
CREATED:20260421T121859Z
LAST-MODIFIED:20260421T121859Z
UID:10000585-1781683200-1784548800@bfgs.ch
SUMMARY:IT
DESCRIPTION:
URL:https://bfgs.ch/event/it-16/
LOCATION:BFGS Lenzburg\, Hünerwadelplatz\, Lenzburg\, AG\, 5600\, Schweiz
CATEGORIES:Sekretariat Lenzburg
END:VEVENT
BEGIN:VEVENT
DTSTART;TZID=Europe/Paris:20260619T080000
DTEND;TZID=Europe/Paris:20260722T120000
DTSTAMP:20260421T153808
CREATED:20260421T121912Z
LAST-MODIFIED:20260421T121912Z
UID:10000586-1781856000-1784721600@bfgs.ch
SUMMARY:IT
DESCRIPTION:
URL:https://bfgs.ch/event/it-17/
LOCATION:BFGS Lenzburg\, Hünerwadelplatz\, Lenzburg\, AG\, 5600\, Schweiz
CATEGORIES:Sekretariat Lenzburg
END:VEVENT
BEGIN:VEVENT
DTSTART;TZID=Europe/Paris:20260623T080000
DTEND;TZID=Europe/Paris:20260726T120000
DTSTAMP:20260421T153808
CREATED:20260421T121931Z
LAST-MODIFIED:20260421T121931Z
UID:10000587-1782201600-1785067200@bfgs.ch
SUMMARY:IT
DESCRIPTION:
URL:https://bfgs.ch/event/it-18/
LOCATION:BFGS Lenzburg\, Hünerwadelplatz\, Lenzburg\, AG\, 5600\, Schweiz
CATEGORIES:Sekretariat Lenzburg
END:VEVENT
BEGIN:VEVENT
DTSTART;TZID=Europe/Paris:20260625T080000
DTEND;TZID=Europe/Paris:20260728T120000
DTSTAMP:20260421T153808
CREATED:20260421T121941Z
LAST-MODIFIED:20260421T121941Z
UID:10000588-1782374400-1785240000@bfgs.ch
SUMMARY:IT
DESCRIPTION:
URL:https://bfgs.ch/event/it-19/
LOCATION:BFGS Lenzburg\, Hünerwadelplatz\, Lenzburg\, AG\, 5600\, Schweiz
CATEGORIES:Sekretariat Lenzburg
END:VEVENT
BEGIN:VEVENT
DTSTART;TZID=Europe/Paris:20260629T080000
DTEND;TZID=Europe/Paris:20260801T120000
DTSTAMP:20260421T153808
CREATED:20260421T121956Z
LAST-MODIFIED:20260421T121956Z
UID:10000589-1782720000-1785585600@bfgs.ch
SUMMARY:IT
DESCRIPTION:
URL:https://bfgs.ch/event/it-20/
LOCATION:BFGS Lenzburg\, Hünerwadelplatz\, Lenzburg\, AG\, 5600\, Schweiz
CATEGORIES:Sekretariat Lenzburg
END:VEVENT
BEGIN:VEVENT
DTSTART;TZID=Europe/Paris:20260701T080000
DTEND;TZID=Europe/Paris:20260803T120000
DTSTAMP:20260421T153808
CREATED:20260421T122014Z
LAST-MODIFIED:20260421T122014Z
UID:10000590-1782892800-1785758400@bfgs.ch
SUMMARY:IT
DESCRIPTION:
URL:https://bfgs.ch/event/it-21/
LOCATION:BFGS Lenzburg\, Hünerwadelplatz\, Lenzburg\, AG\, 5600\, Schweiz
CATEGORIES:Sekretariat Lenzburg
END:VEVENT
BEGIN:VEVENT
DTSTART;VALUE=DATE:20260706
DTEND;VALUE=DATE:20260808
DTSTAMP:20260421T153808
CREATED:20250605T084412Z
LAST-MODIFIED:20260417T081540Z
UID:10000202-1783296000-1786147199@bfgs.ch
SUMMARY:Sommerferien
DESCRIPTION:Unterrichtsbeginn jeweils am 1. Montag nach den Ferien.
URL:https://bfgs.ch/event/sommerferien-4/
LOCATION:BFGS Brugg\, Baslerstrasse 43 - 45\, Brugg\, Aargau\, 5200\, Schweiz
CATEGORIES:Ferien BFGS
END:VEVENT
END:VCALENDAR